BEGIN:VCALENDAR
VERSION:2.0
PRODID:-//Jay Jesse Johnson - ECPv6.2.4//NONSGML v1.0//EN
CALSCALE:GREGORIAN
METHOD:PUBLISH
X-ORIGINAL-URL:https://jayjessejohnson.com
X-WR-CALDESC:Events for Jay Jesse Johnson
REFRESH-INTERVAL;VALUE=DURATION:PT1H
X-Robots-Tag:noindex
X-PUBLISHED-TTL:PT1H
BEGIN:VTIMEZONE
TZID:America/New_York
BEGIN:DAYLIGHT
TZOFFSETFROM:-0500
TZOFFSETTO:-0400
TZNAME:EDT
DTSTART:20220313T070000
END:DAYLIGHT
BEGIN:STANDARD
TZOFFSETFROM:-0400
TZOFFSETTO:-0500
TZNAME:EST
DTSTART:20221106T060000
END:STANDARD
END:VTIMEZONE
BEGIN:VEVENT
DTSTART;TZID=America/New_York:20220205T203000
DTEND;TZID=America/New_York:20220205T203000
DTSTAMP:20260423T072133
CREATED:20231017T182528Z
LAST-MODIFIED:20231017T182528Z
UID:1407-1644093000-1644093000@jayjessejohnson.com
SUMMARY:Jay Jesse Johnson
DESCRIPTION:
URL:https://jayjessejohnson.com/event/jay-jesse-johnson-66/
LOCATION:Trillions Bar\, 9933 Cincinnati Columbus Rd\, Westchester\, Ohio\, US
END:VEVENT
BEGIN:VEVENT
DTSTART;TZID=America/New_York:20220219T200000
DTEND;TZID=America/New_York:20220219T200000
DTSTAMP:20260423T072133
CREATED:20231017T182516Z
LAST-MODIFIED:20231017T182516Z
UID:1406-1645300800-1645300800@jayjessejohnson.com
SUMMARY:Jay Jesse Johnson
DESCRIPTION:
URL:https://jayjessejohnson.com/event/jay-jesse-johnson-65/
LOCATION:Mutts Tavern\, Wayne Madison Rd\, Trenton\, Ohio\, US
END:VEVENT
BEGIN:VEVENT
DTSTART;TZID=America/New_York:20220220T180000
DTEND;TZID=America/New_York:20220220T180000
DTSTAMP:20260423T072133
CREATED:20231017T182515Z
LAST-MODIFIED:20231017T182515Z
UID:1405-1645380000-1645380000@jayjessejohnson.com
SUMMARY:Jay Jesse Johnson
DESCRIPTION:JJJ w/ the Four Aces – Benefit
URL:https://jayjessejohnson.com/event/jay-jesse-johnson-64/
LOCATION:Ken Anderson’s Autism Rocks\, Lori's Roadhouse\, Union Center Pavillion\, West Chester\, Ohio\, US
END:VEVENT
END:VCALENDAR