BEGIN:VCALENDAR
VERSION:2.0
PRODID:-//Jay Jesse Johnson - ECPv6.2.4//NONSGML v1.0//EN
CALSCALE:GREGORIAN
METHOD:PUBLISH
X-ORIGINAL-URL:https://jayjessejohnson.com
X-WR-CALDESC:Events for Jay Jesse Johnson
REFRESH-INTERVAL;VALUE=DURATION:PT1H
X-Robots-Tag:noindex
X-PUBLISHED-TTL:PT1H
BEGIN:VTIMEZONE
TZID:America/New_York
BEGIN:DAYLIGHT
TZOFFSETFROM:-0500
TZOFFSETTO:-0400
TZNAME:EDT
DTSTART:20220313T070000
END:DAYLIGHT
BEGIN:STANDARD
TZOFFSETFROM:-0400
TZOFFSETTO:-0500
TZNAME:EST
DTSTART:20221106T060000
END:STANDARD
END:VTIMEZONE
BEGIN:VEVENT
DTSTART;TZID=America/New_York:20220409T203000
DTEND;TZID=America/New_York:20220409T203000
DTSTAMP:20260421T152549
CREATED:20231017T182448Z
LAST-MODIFIED:20231017T182448Z
UID:1401-1649536200-1649536200@jayjessejohnson.com
SUMMARY:Jay Jesse Johnson
DESCRIPTION:
URL:https://jayjessejohnson.com/event/jay-jesse-johnson-60/
LOCATION:Trillions Bar\, 9933 Cincinnati Columbus Rd\, Westchester\, Ohio\, US
END:VEVENT
BEGIN:VEVENT
DTSTART;TZID=America/New_York:20220416T203000
DTEND;TZID=America/New_York:20220416T203000
DTSTAMP:20260421T152549
CREATED:20231017T182448Z
LAST-MODIFIED:20231017T182448Z
UID:1400-1650141000-1650141000@jayjessejohnson.com
SUMMARY:Jay Jesse Johnson
DESCRIPTION:
URL:https://jayjessejohnson.com/event/jay-jesse-johnson-59/
LOCATION:Madison Inn\, Middletown\, Middletown\, Ohio\, US
END:VEVENT
BEGIN:VEVENT
DTSTART;TZID=America/New_York:20220429T190000
DTEND;TZID=America/New_York:20220429T190000
DTSTAMP:20260421T152550
CREATED:20231017T182447Z
LAST-MODIFIED:20231017T182447Z
UID:1399-1651258800-1651258800@jayjessejohnson.com
SUMMARY:Jay Jesse Johnson
DESCRIPTION:JJJ Band rocks Pohlman Entertainment Complex
URL:https://jayjessejohnson.com/event/jay-jesse-johnson-58/
LOCATION:Pohlman Lanes\, 954 Pyramid Hill\, Hamilton\, Ohio\, US
END:VEVENT
END:VCALENDAR