BEGIN:VCALENDAR
VERSION:2.0
PRODID:-//Jay Jesse Johnson - ECPv6.2.4//NONSGML v1.0//EN
CALSCALE:GREGORIAN
METHOD:PUBLISH
X-ORIGINAL-URL:https://jayjessejohnson.com
X-WR-CALDESC:Events for Jay Jesse Johnson
REFRESH-INTERVAL;VALUE=DURATION:PT1H
X-Robots-Tag:noindex
X-PUBLISHED-TTL:PT1H
BEGIN:VTIMEZONE
TZID:America/New_York
BEGIN:DAYLIGHT
TZOFFSETFROM:-0500
TZOFFSETTO:-0400
TZNAME:EDT
DTSTART:20220313T070000
END:DAYLIGHT
BEGIN:STANDARD
TZOFFSETFROM:-0400
TZOFFSETTO:-0500
TZNAME:EST
DTSTART:20221106T060000
END:STANDARD
END:VTIMEZONE
BEGIN:VEVENT
DTSTART;TZID=America/New_York:20220806T200000
DTEND;TZID=America/New_York:20220806T200000
DTSTAMP:20260421T080738
CREATED:20231017T182231Z
LAST-MODIFIED:20231017T182231Z
UID:1387-1659816000-1659816000@jayjessejohnson.com
SUMMARY:Jay Jesse Johnson
DESCRIPTION:
URL:https://jayjessejohnson.com/event/jay-jesse-johnson-46/
LOCATION:Rick’s Tavern\, 5955 Boymel Dr\,\, Fairfield\, Ohio\, US
END:VEVENT
BEGIN:VEVENT
DTSTART;TZID=America/New_York:20220811T190000
DTEND;TZID=America/New_York:20220811T190000
DTSTAMP:20260421T080738
CREATED:20231017T182218Z
LAST-MODIFIED:20231017T182218Z
UID:1386-1660244400-1660244400@jayjessejohnson.com
SUMMARY:Jay Jesse Johnson
DESCRIPTION:Outdoor Show
URL:https://jayjessejohnson.com/event/jay-jesse-johnson-45/
LOCATION:Defiance Summer Concert\, Triangle Park\, Defiance\, Ohio\, US
END:VEVENT
BEGIN:VEVENT
DTSTART;TZID=America/New_York:20220813T203000
DTEND;TZID=America/New_York:20220813T203000
DTSTAMP:20260421T080738
CREATED:20231017T182218Z
LAST-MODIFIED:20231017T182218Z
UID:1385-1660422600-1660422600@jayjessejohnson.com
SUMMARY:Jay Jesse Johnson
DESCRIPTION:
URL:https://jayjessejohnson.com/event/jay-jesse-johnson-44/
LOCATION:Latitudes Bar & Bistro\, 7454 Beechmont Ave\, Cincinnati\, OH 45255\, Cincinnati\, Ohio\, US
END:VEVENT
BEGIN:VEVENT
DTSTART;TZID=America/New_York:20220820T200000
DTEND;TZID=America/New_York:20220820T200000
DTSTAMP:20260421T080738
CREATED:20231017T182218Z
LAST-MODIFIED:20231017T182218Z
UID:1384-1661025600-1661025600@jayjessejohnson.com
SUMMARY:Jay Jesse Johnson
DESCRIPTION:
URL:https://jayjessejohnson.com/event/jay-jesse-johnson-43/
LOCATION:Madison Inn\, Middletown\, Middletown\, Ohio\, US
END:VEVENT
END:VCALENDAR